Workbook

Sheet CUARTEO
A1: MEDIAS A CUARTEO | I1: Fecha de Cierre | J1: 12/09/2025
B2: Cliente : | D2: CUARTEO RICARDO
A3: Nombre | B3: -Tropa | C3: CabT/A | D3: Kilos de Cada 1/2 | K3: Kilos | L3: Importe
A4: NOVT | B4: 20064 | C4: 12/09/2025 | D4: 6 | E4: 164 - 160 - 167 - 165 - 167 - 166 - | J4: 989 | K4: =+L4*J4 -> 6557070 | L4: 6630
A5: NOVT | B5: 20063 | C5: 12/09/2025 | D5: 20 | E5: 128 - 123 - 140 - 141 - 131 - 131 - 155 - 152 - 143 - 139 - 144 - 145 - 153 - 153 - 146 - 140 - 155 - 153 - 146 - 148 - | J5: 2866 | K5: =+L5*J5 -> 17981284 | L5: 6274
A6: NOVT | B6: 20063 | C6: 12/09/2025 | D6: 20 | E6: 142 - 140 - 157 - 153 - 133 - 130 - 140 - 137 - 149 - 148 - 153 - 152 - 142 - 143 - 149 - 148 - 120 - 117 - 124 - 126 - | J6: 2803 | K6: =+L6*J6 -> 17586022 | L6: 6274
A7: NOVT | B7: 20063 | C7: 12/09/2025 | D7: 20 | E7: 141 - 138 - 151 - 148 - 152 - 151 - 136 - 133 - 161 - 158 - 143 - 139 - 147 - 143 - 143 - 140 - 126 - 125 - 133 - 130 - | J7: 2838 | K7: =+L7*J7 -> 17805612 | L7: 6274
A8: NOVT | B8: 20063 | C8: 12/09/2025 | D8: 6 | E8: 154 - 150 - 121 - 118 - 146 - 142 - | J8: 831 | K8: =+L8*J8 -> 5213694 | L8: 6274
A9: NOVT | B9: 20064 | C9: 12/09/2025 | D9: 20 | E9: 141 - 137 - 149 - 150 - 151 - 148 - 148 - 154 - 145 - 144 - 135 - 136 - 156 - 156 - 139 - 135 - 142 - 137 - 128 - 125 - | J9: 2856 | K9: =+L9*J9 -> 18935280 | L9: 6630
A10: NOVT | B10: 20064 | C10: 12/09/2025 | D10: 20 | E10: 151 - 150 - 131 - 130 - 143 - 143 - 126 - 129 - 133 - 131 - 144 - 140 - 155 - 154 - 156 - 153 - 145 - 147 - 137 - 136 - | J10: 2834 | K10: =+L10*J10 -> 18789420 | L10: 6630
A11: NOVT | B11: 20064 | C11: 12/09/2025 | D11: 20 | E11: 141 - 140 - 144 - 143 - 126 - 125 - 148 - 146 - 145 - 139 - 142 - 135 - 129 - 128 - 149 - 150 - 134 - 133 - 147 - 146 - | J11: 2790 | K11: =+L11*J11 -> 18497700 | L11: 6630
A12: NOVT | B12: 20064 | C12: 12/09/2025 | D12: 4 | E12: 158 - 156 - 141 - 145 - | J12: 600 | K12: =+L12*J12 -> 3978000 | L12: 6630
A13: NOVT | B13: 20063 | C13: 12/09/2025 | D13: 4 | E13: 166 - 160 - 155 - 157 - | J13: 638 | K13: =+L13*J13 -> 4002812 | L13: 6274
E14: Totales x Carni. 1/2 - Kg- -- $ | H14: 140 | J14: 20045 | L14: 129346894
A15: MEDIAS A CUARTEO | D15: Totales x Distribuidor 1/2 - Kg- -- $ | H15: 140 | J15: 20045 | L15: 129346894

Sheet SALIDAS
F1: Informe x Distribuidor
D2: FERNANDEZ | E2: 45912
B3: =IF(I3="Cliente :",C3,B2) -> 16 DE OCTUBRE | C3: 16 DE OCTUBRE | I3: Cliente :
A4: CabT/A | B4: =IF(I4="Cliente :",C4,B3) -> 16 DE OCTUBRE | C4: Kilos de Cada 1/2 | D4: Nombre | G4: Kilos | H4: Importe | I4: -Tropa
A5: 09/09/2025 | B5: =IF(I5="Cliente :",C5,B4) -> 16 DE OCTUBRE | C5: 1 | D5: NOVT | E5: 121 | F5: 121 - | G5: =+H5*E5 -> 774400 | H5: 6400 | I5: 26064
A6: 09/09/2025 | B6: =IF(I6="Cliente :",C6,B5) -> 16 DE OCTUBRE | C6: 1 | D6: C./PIST. | E6: 53 | F6: 53 - | G6: 0 | H6: 0 | I6: 46
A7: 09/09/2025 | B7: =IF(I7="Cliente :",C7,B6) -> 16 DE OCTUBRE | C7: 1 | D7: S/PECHO | E7: 76 | F7: 76 - | G7: 501600 | H7: 6600 | I7: 46
A8: 09/09/2025 | B8: =IF(I8="Cliente :",C8,B7) -> 16 DE OCTUBRE | C8: 1 | D8: VAQ | E8: 135 | F8: 135 - | G8: 864000 | H8: 6400 | I8: 20061
B9: =IF(I9="Cliente :",C9,B8) -> 16 DE OCTUBRE | F9: Totales x Carni. 1/2 - Kg- -- $ | G9: 385 | H9: 2140000
B10: =IF(I10="Cliente :",C10,B9) -> 19 DE MARZO | C10: 19 DE MARZO | I10: Cliente :
A11: CabT/A | B11: =IF(I11="Cliente :",C11,B10) -> 19 DE MARZO | C11: Kilos de Cada 1/2 | D11: Nombre | G11: Kilos | H11: Importe | I11: -Tropa
A12: 12/09/2025 | B12: =IF(I12="Cliente :",C12,B11) -> 19 DE MARZO | C12: 20 | D12: RAL | E12: 690 | F12: 38 - 36 - 32 - 37 - 34 - 35 - 35 - 41 - 39 - 35 - 34 - 32 - 32 - 32 - 32 - 32 - 35 - 37 - 32 - 30 - | G12: 0 | H12: 0 | I12: 48
A13: 12/09/2025 | B13: =IF(I13="Cliente :",C13,B12) -> 19 DE MARZO | C13: 20 | D13: RAL | E13: 696 | F13: 33 - 34 - 35 - 34 - 40 - 34 - 32 - 31 - 38 - 34 - 35 - 32 - 36 - 38 - 36 - 30 - 33 - 33 - 39 - 39 - | G13: 0 | H13: 0 | I13: 48
A14: 12/09/2025 | B14: =IF(I14="Cliente :",C14,B13) -> 19 DE MARZO | C14: 20 | D14: RAL | E14: 695 | F14: 35 - 35 - 33 - 40 - 40 - 32 - 34 - 35 - 30 - 32 - 32 - 32 - 34 - 34 - 39 - 34 - 33 - 33 - 39 - 39 - | G14: 0 | H14: 0 | I14: 48
A15: 12/09/2025 | B15: =IF(I15="Cliente :",C15,B14) -> 19 DE MARZO | C15: 20 | D15: RAL | E15: 707 | F15: 38 - 37 - 35 - 35 - 34 - 33 - 37 - 35 - 32 - 33 - 36 - 38 - 40 - 35 - 34 - 31 - 38 - 39 - 34 - 33 - | G15: 0 | H15: 0 | I15: 48
A16: 12/09/2025 | B16: =IF(I16="Cliente :",C16,B15) -> 19 DE MARZO | C16: 20 | D16: RAL | E16: 707 | F16: 32 - 38 - 40 - 38 - 42 - 36 - 38 - 34 - 33 - 35 - 33 - 33 - 35 - 38 - 29 - 34 - 34 - 36 - 35 - 34 - | G16: 0 | H16: 0 | I16: 48
A17: 12/09/2025 | B17: =IF(I17="Cliente :",C17,B16) -> 19 DE MARZO | C17: 20 | D17: RAL | E17: 702 | F17: 36 - 36 - 37 - 38 - 32 - 33 - 34 - 35 - 35 - 32 - 32 - 29 - 29 - 41 - 42 - 36 - 35 - 38 - 34 - 38 - | G17: 0 | H17: 0 | I17: 48
A18: 12/09/2025 | B18: =IF(I18="Cliente :",C18,B17) -> 19 DE MARZO | C18: 20 | D18: RAL | E18: 687 | F18: 32 - 35 - 35 - 39 - 42 - 32 - 32 - 34 - 31 - 34 - 33 - 34 - 32 - 34 - 36 - 31 - 33 - 40 - 34 - 34 - | G18: 0 | H18: 0 | I18: 48
A19: 12/09/2025 | B19: =IF(I19="Cliente :",C19,B18) -> 19 DE MARZO | C19: 2 | D19: FALDA | E19: 1221 | F19: 600 - 621 - | G19: 0 | H19: 0 | I19: 47
A20: 12/09/2025 | B20: =IF(I20="Cliente :",C20,B19) -> 19 DE MARZO | C20: 2 | D20: ENRTAÑA | E20: 88 | F20: 44 - 44 - | G20: 0 | H20: 0 | I20: 47
B21: =IF(I21="Cliente :",C21,B20) -> 19 DE MARZO | F21: Totales x Carni. 1/2 - Kg- -- $ | G21: 6193 | H21: 0
B22: =IF(I22="Cliente :",C22,B21) -> 9 DE JULIO | C22: 9 DE JULIO | I22: Cliente :
A23: CabT/A | B23: =IF(I23="Cliente :",C23,B22) -> 9 DE JULIO | C23: Kilos de Cada 1/2 | D23: Nombre | G23: Kilos | H23: Importe | I23: -Tropa
A24: 09/09/2025 | B24: =IF(I24="Cliente :",C24,B23) -> 9 DE JULIO | C24: 1 | D24: NOVT | E24: 128 | F24: 128 - | G24: 819200 | H24: 6400 | I24: 20060
A25: 09/09/2025 | B25: =IF(I25="Cliente :",C25,B24) -> 9 DE JULIO | C25: 1 | D25: S/PECHO | E25: 90 | F25: 90 - | G25: 594000 | H25: 6600 | I25: 46
B26: =IF(I26="Cliente :",C26,B25) -> 9 DE JULIO | F26: Totales x Carni. 1/2 - Kg- -- $ | G26: 218 | H26: 1413200
B27: =IF(I27="Cliente :",C27,B26) -> ALFARO | C27: ALFARO | I27: Cliente :
A28: CabT/A | B28: =IF(I28="Cliente :",C28,B27) -> ALFARO | C28: Kilos de Cada 1/2 | D28: Nombre | G28: Kilos | H28: Importe | I28: -Tropa
A29: 09/09/2025 | B29: =IF(I29="Cliente :",C29,B28) -> ALFARO | C29: 1 | D29: C./PIST. | E29: 76 | F29: 76 - | G29: 0 | H29: 0 | I29: 46
A30: 09/09/2025 | B30: =IF(I30="Cliente :",C30,B29) -> ALFARO | C30: 1 | D30: NOVT | E30: 159 | F30: 159 - | G30: 938100 | H30: 5900 | I30: 20062
B31: =IF(I31="Cliente :",C31,B30) -> ALFARO | F31: Totales x Carni. 1/2 - Kg- -- $ | G31: 235 | H31: 938100
B32: =IF(I32="Cliente :",C32,B31) -> BELLA VISTA | C32: BELLA VISTA | I32: Cliente :
A33: CabT/A | B33: =IF(I33="Cliente :",C33,B32) -> BELLA VISTA | C33: Kilos de Cada 1/2 | D33: Nombre | G33: Kilos | H33: Importe | I33: -Tropa
A34: 09/09/2025 | B34: =IF(I34="Cliente :",C34,B33) -> BELLA VISTA | C34: 1 | D34: NOVT | E34: 147 | F34: 147 - | G34: 940800 | H34: 6400 | I34: 20062
A35: 09/09/2025 | B35: =IF(I35="Cliente :",C35,B34) -> BELLA VISTA | C35: 1 | D35: NOVT | E35: 125 | F35: 125 - | G35: 800000 | H35: 6400 | I35: 20061
A36: 09/09/2025 | B36: =IF(I36="Cliente :",C36,B35) -> BELLA VISTA | C36: 1 | D36: S/PECHO | E36: 78 | F36: 78 - | G36: 514800 | H36: 6600 | I36: 46
B37: =IF(I37="Cliente :",C37,B36) -> BELLA VISTA | F37: Totales x Carni. 1/2 - Kg- -- $ | G37: 350 | H37: 2255600
B38: =IF(I38="Cliente :",C38,B37) -> C 41 | C38: C 41 | I38: Cliente :
A39: CabT/A | B39: =IF(I39="Cliente :",C39,B38) -> C 41 | C39: Kilos de Cada 1/2 | D39: Nombre | G39: Kilos | H39: Importe | I39: -Tropa
A40: 09/09/2025 | B40: =IF(I40="Cliente :",C40,B39) -> C 41 | C40: 1 | D40: NOVT | E40: 142 | F40: 142 - | G40: 908800 | H40: 6400 | I40: 20062
A41: 09/09/2025 | B41: =IF(I41="Cliente :",C41,B40) -> C 41 | C41: 1 | D41: S/PECHO | E41: 77 | F41: 77 - | G41: 508200 | H41: 6600 | I41: 46
B42: =IF(I42="Cliente :",C42,B41) -> C 41 | F42: Totales x Carni. 1/2 - Kg- -- $ | G42: 219 | H42: 1417000
B43: =IF(I43="Cliente :",C43,B42) -> CAMPANA | C43: CAMPANA | I43: Cliente :
A44: CabT/A | B44: =IF(I44="Cliente :",C44,B43) -> CAMPANA | C44: Kilos de Cada 1/2 | D44: Nombre | G44: Kilos | H44: Importe | I44: -Tropa
A45: 09/09/2025 | B45: =IF(I45="Cliente :",C45,B44) -> CAMPANA | C45: 5 | D45: VAQ | E45: 504 | F45: 104 - 105 - 94 - 102 - 99 - | G45: 3477600 | H45: 6900 | I45: 26064
A46: 09/09/2025 | B46: =IF(I46="Cliente :",C46,B45) -> CAMPANA | C46: 1 | D46: NOVT | E46: 106 | F46: 106 - | G46: 731400 | H46: 6900 | I46: 26064
B47: =IF(I47="Cliente :",C47,B46) -> CAMPANA | F47: Totales x Carni. 1/2 - Kg- -- $ | G47: 610 | H47: 4209000
B48: =IF(I48="Cliente :",C48,B47) -> CAMPO CHICO | C48: CAMPO CHICO | I48: Cliente :
A49: CabT/A | B49: =IF(I49="Cliente :",C49,B48) -> CAMPO CHICO | C49: Kilos de Cada 1/2 | D49: Nombre | G49: Kilos | H49: Importe | I49: -Tropa
A50: 09/09/2025 | B50: =IF(I50="Cliente :",C50,B49) -> CAMPO CHICO | C50: 2 | D50: S/PECHO | E50: 162 | F50: 83 - 79 - | G50: 1069200 | H50: 6600 | I50: 46
A51: 09/09/2025 | B51: =IF(I51="Cliente :",C51,B50) -> CAMPO CHICO | C51: 1 | D51: NOVT | E51: 141 | F51: 141 - | G51: 902400 | H51: 6400 | I51: 20061
A52: 09/09/2025 | B52: =IF(I52="Cliente :",C52,B51) -> CAMPO CHICO | C52: 1 | D52: NOVT | E52: 134 | F52: 134 - | G52: 857600 | H52: 6400 | I52: 20060
B53: =IF(I53="Cliente :",C53,B52) -> CAMPO CHICO | F53: Totales x Carni. 1/2 - Kg- -- $ | G53: 437 | H53: 2829200
B54: =IF(I54="Cliente :",C54,B53) -> CERVANTES | C54: CERVANTES | I54: Cliente :
A55: CabT/A | B55: =IF(I55="Cliente :",C55,B54) -> CERVANTES | C55: Kilos de Cada 1/2 | D55: Nombre | G55: Kilos | H55: Importe | I55: -Tropa
A56: 09/09/2025 | B56: =IF(I56="Cliente :",C56,B55) -> CERVANTES | C56: 1 | D56: C./PIST. | E56: 49 | F56: 49 - | G56: 0 | H56: 0 | I56: 46
A57: 09/09/2025 | B57: =IF(I57="Cliente :",C57,B56) -> CERVANTES | C57: 1 | D57: S/PECHO | E57: 81 | F57: 81 - | G57: 534600 | H57: 6600 | I57: 46
A58: 09/09/2025 | B58: =IF(I58="Cliente :",C58,B57) -> CERVANTES | C58: 2 | D58: NOVT | E58: 224 | F58: 114 - 110 - | G58: 1433600 | H58: 6400 | I58: 26064
A59: 09/09/2025 | B59: =IF(I59="Cliente :",C59,B58) -> CERVANTES | C59: 1 | D59: NOVT | E59: 135 | F59: 135 - | G59: 864000 | H59: 6400 | I59: 20060
A60: 09/09/2025 | B60: =IF(I60="Cliente :",C60,B59) -> CERVANTES | C60: 1 | D60: NOVT | E60: 132 | F60: 132 - | G60: 844800 | H60: 6400 | I60: 20061
B61: =IF(I61="Cliente :",C61,B60) -> CERVANTES | F61: Totales x Carni. 1/2 - Kg- -- $ | G61: 621 | H61: 3677000
B62: =IF(I62="Cliente :",C62,B61) -> EL ARRIERO | C62: EL ARRIERO | I62: Cliente :
A63: CabT/A | B63: =IF(I63="Cliente :",C63,B62) -> EL ARRIERO | C63: Kilos de Cada 1/2 | D63: Nombre | G63: Kilos | H63: Importe | I63: -Tropa
A64: 09/09/2025 | B64: =IF(I64="Cliente :",C64,B63) -> EL ARRIERO | C64: 1 | D64: NOVT | E64: 118 | F64: 118 - | G64: 755200 | H64: 6400 | I64: 26064
A65: 09/09/2025 | B65: =IF(I65="Cliente :",C65,B64) -> EL ARRIERO | C65: 1 | D65: C./PIST. | E65: 46 | F65: 46 - | G65: 0 | H65: 0 | I65: 46
A66: 09/09/2025 | B66: =IF(I66="Cliente :",C66,B65) -> EL ARRIERO | C66: 2 | D66: NOVT | E66: 286 | F66: 145 - 141 - | G66: 1830400 | H66: 6400 | I66: 20061
A67: 09/09/2025 | B67: =IF(I67="Cliente :",C67,B66) -> EL ARRIERO | C67: 2 | D67: S/PECHO | E67: 156 | F67: 80 - 76 - | G67: 1029600 | H67: 6600 | I67: 46
A68: 09/09/2025 | B68: =IF(I68="Cliente :",C68,B67) -> EL ARRIERO | C68: 1 | D68: NOVT | E68: 143 | F68: 143 - | G68: 915200 | H68: 6400 | I68: 20062
B69: =IF(I69="Cliente :",C69,B68) -> EL ARRIERO | F69: Totales x Carni. 1/2 - Kg- -- $ | G69: 749 | H69: 4530400
B70: =IF(I70="Cliente :",C70,B69) -> EL PAMPA | C70: EL PAMPA | I70: Cliente :
A71: CabT/A | B71: =IF(I71="Cliente :",C71,B70) -> EL PAMPA | C71: Kilos de Cada 1/2 | D71: Nombre | G71: Kilos | H71: Importe | I71: -Tropa
A72: 09/09/2025 | B72: =IF(I72="Cliente :",C72,B71) -> EL PAMPA | C72: 1 | D72: NOVT | E72: 149 | F72: 149 - | G72: 953600 | H72: 6400 | I72: 20062
A73: 09/09/2025 | B73: =IF(I73="Cliente :",C73,B72) -> EL PAMPA | C73: 1 | D73: C./PIST. | E73: 56 | F73: 56 - | G73: 0 | H73: 0 | I73: 46
A74: 09/09/2025 | B74: =IF(I74="Cliente :",C74,B73) -> EL PAMPA | C74: 1 | D74: NOVT | E74: 128 | F74: 128 - | G74: 819200 | H74: 6400 | I74: 20060
A75: 09/09/2025 | B75: =IF(I75="Cliente :",C75,B74) -> EL PAMPA | C75: 2 | D75: S/PECHO | E75: 153 | F75: 76 - 77 - | G75: 1009800 | H75: 6600 | I75: 46
A76: 09/09/2025 | B76: =IF(I76="Cliente :",C76,B75) -> EL PAMPA | C76: 1 | D76: NOVT | E76: 136 | F76: 136 - | G76: 870400 | H76: 6400 | I76: 20061
B77: =IF(I77="Cliente :",C77,B76) -> EL PAMPA | F77: Totales x Carni. 1/2 - Kg- -- $ | G77: 622 | H77: 3653000
B78: =IF(I78="Cliente :",C78,B77) -> EL TARQUINO | C78: EL TARQUINO | I78: Cliente :
A79: CabT/A | B79: =IF(I79="Cliente :",C79,B78) -> EL TARQUINO | C79: Kilos de Cada 1/2 | D79: Nombre | G79: Kilos | H79: Importe | I79: -Tropa
A80: 09/09/2025 | B80: =IF(I80="Cliente :",C80,B79) -> EL TARQUINO | C80: 1 | D80: NOVT | E80: 136 | F80: 136 - | G80: 870400 | H80: 6400 | I80: 20061
A81: 09/09/2025 | B81: =IF(I81="Cliente :",C81,B80) -> EL TARQUINO | C81: 1 | D81: VAQ | E81: 137 | F81: 137 - | G81: 876800 | H81: 6400 | I81: 20061
A82: 09/09/2025 | B82: =IF(I82="Cliente :",C82,B81) -> EL TARQUINO | C82: 1 | D82: NOVT | E82: 147 | F82: 147 - | G82: 940800 | H82: 6400 | I82: 20062
A83: 09/09/2025 | B83: =IF(I83="Cliente :",C83,B82) -> EL TARQUINO | C83: 1 | D83: C./PIST. | E83: 55 | F83: 55 - | G83: 0 | H83: 0 | I83: 46
A84: 09/09/2025 | B84: =IF(I84="Cliente :",C84,B83) -> EL TARQUINO | C84: 2 | D84: S/PECHO | E84: 151 | F84: 73 - 78 - | G84: 996600 | H84: 6600 | I84: 46
B85: =IF(I85="Cliente :",C85,B84) -> EL TARQUINO | F85: Totales x Carni. 1/2 - Kg- -- $ | G85: 626 | H85: 3684600
B86: =IF(I86="Cliente :",C86,B85) -> FRIGO ALCORTA | C86: FRIGO ALCORTA | I86: Cliente :
A87: CabT/A | B87: =IF(I87="Cliente :",C87,B86) -> FRIGO ALCORTA | C87: Kilos de Cada 1/2 | D87: Nombre | G87: Kilos | H87: Importe | I87: -Tropa
A88: 09/09/2025 | B88: =IF(I88="Cliente :",C88,B87) -> FRIGO ALCORTA | C88: 3 | D88: C./PIST. | E88: 194 | F88: 58 - 76 - 60 - | G88: 0 | H88: 0 | I88: 46
A89: 09/09/2025 | B89: =IF(I89="Cliente :",C89,B88) -> FRIGO ALCORTA | C89: 1 | D89: S/PECHO | E89: 87 | F89: 87 - | G89: 530700 | H89: 6100 | I89: 46
A90: 09/09/2025 | B90: =IF(I90="Cliente :",C90,B89) -> FRIGO ALCORTA | C90: 2 | D90: NOVT | E90: 314 | F90: 158 - 156 - | G90: 1852600 | H90: 5900 | I90: 20062
A91: 09/09/2025 | B91: =IF(I91="Cliente :",C91,B90) -> FRIGO ALCORTA | C91: 1 | D91: NOVT | E91: 152 | F91: 152 - | G91: 896800 | H91: 5900 | I91: 20061
A92: 09/09/2025 | B92: =IF(I92="Cliente :",C92,B91) -> FRIGO ALCORTA | C92: 1 | D92: VAQ | E92: 155 | F92: 155 - | G92: 914500 | H92: 5900 | I92: 20061
B93: =IF(I93="Cliente :",C93,B92) -> FRIGO ALCORTA | F93: Totales x Carni. 1/2 - Kg- -- $ | G93: 902 | H93: 4194600
B94: =IF(I94="Cliente :",C94,B93) -> FRIGO MERLO | C94: FRIGO MERLO | I94: Cliente :
A95: CabT/A | B95: =IF(I95="Cliente :",C95,B94) -> FRIGO MERLO | C95: Kilos de Cada 1/2 | D95: Nombre | G95: Kilos | H95: Importe | I95: -Tropa
A96: 09/09/2025 | B96: =IF(I96="Cliente :",C96,B95) -> FRIGO MERLO | C96: 5 | D96: NOVT | E96: 713 | F96: 153 - 153 - 144 - 131 - 132 - | G96: 4206700 | H96: 5900 | I96: 20062
A97: 09/09/2025 | B97: =IF(I97="Cliente :",C97,B96) -> FRIGO MERLO | C97: 16 | D97: C./PIST. | E97: 836 | F97: 51 - 50 - 47 - 50 - 51 - 59 - 50 - 50 - 55 - 55 - 49 - 50 - 51 - 51 - 57 - 60 - | G97: 0 | H97: 0 | I97: 46
A98: 09/09/2025 | B98: =IF(I98="Cliente :",C98,B97) -> FRIGO MERLO | C98: 16 | D98: S/PECHO | E98: 1245 | F98: 75 - 71 - 75 - 83 - 80 - 85 - 81 - 74 - 78 - 80 - 75 - 79 - 80 - 73 - 76 - 80 - | G98: 7594500 | H98: 6100 | I98: 46
B99: =IF(I99="Cliente :",C99,B98) -> FRIGO MERLO | F99: Totales x Carni. 1/2 - Kg- -- $ | G99: 2794 | H99: 11801200
B100: =IF(I100="Cliente :",C100,B99) -> FRIGO PAGOLA | C100: FRIGO PAGOLA | I100: Cliente :
...

Sheet CARNICERIAS
A1: FECHA | B1: CARNICERIA | C1: CANT | D1: CATEG | E1: TIP | F1: KILOS | G1: DETALLE 1/2 | H1: PRECIO | I1: IMPORTE | J1: TROPA
A2: 09/09/2025 | B2: 16 DE OCTUBRE | C2: 1 | D2: NOVT | E2: 15 | F2: 121 | G2: 121 - | H2: 6400 | I2: =+F2*H2 -> 774400 | J2: 26064
A3: 09/09/2025 | B3: 16 DE OCTUBRE | C3: 1 | D3: C./PIST. | F3: 53 | G3: 53 - | H3: 7200 | I3: =+F3*H3 -> 381600 | J3: 46
A4: 09/09/2025 | B4: 16 DE OCTUBRE | C4: 1 | D4: S/PECHO | E4: 35/15 | F4: 76 | G4: 76 - | H4: 6600 | I4: =+F4*H4 -> 501600 | J4: 46
A5: 09/09/2025 | B5: 16 DE OCTUBRE | C5: 1 | D5: VAQ | E5: 15 | F5: 135 | G5: 135 - | H5: 6400 | I5: =+F5*H5 -> 864000 | J5: 20061
A6: 09/09/2025 | B6: 9 DE JULIO | C6: 1 | D6: NOVT | E6: 15 | F6: 128 | G6: 128 - | H6: 6400 | I6: =+F6*H6 -> 819200 | J6: 20060
A7: 09/09/2025 | B7: 9 DE JULIO | C7: 1 | D7: S/PECHO | E7: 35/15 | F7: 90 | G7: 90 - | H7: 6600 | I7: =+F7*H7 -> 594000 | J7: 46
A8: 09/09/2025 | B8: ALFARO | C8: 1 | D8: C./PIST. | F8: 76 | G8: 76 - | H8: 7200 | I8: =+F8*H8 -> 547200 | J8: 46
A9: 09/09/2025 | B9: ALFARO | C9: 1 | D9: NOVT | E9: 50 | F9: 159 | G9: 159 - | H9: 5900 | I9: =+F9*H9 -> 938100 | J9: 20062
A10: 09/09/2025 | B10: BELLA VISTA | C10: 1 | D10: NOVT | E10: 15 | F10: 147 | G10: 147 - | H10: 6400 | I10: =+F10*H10 -> 940800 | J10: 20062
A11: 09/09/2025 | B11: BELLA VISTA | C11: 1 | D11: NOVT | E11: 15 | F11: 125 | G11: 125 - | H11: 6400 | I11: =+F11*H11 -> 800000 | J11: 20061
A12: 09/09/2025 | B12: BELLA VISTA | C12: 1 | D12: S/PECHO | E12: 35/15 | F12: 78 | G12: 78 - | H12: 6600 | I12: =+F12*H12 -> 514800 | J12: 46
A13: 09/09/2025 | B13: C 41 | C13: 1 | D13: NOVT | E13: 15 | F13: 142 | G13: 142 - | H13: 6400 | I13: =+F13*H13 -> 908800 | J13: 20062
A14: 09/09/2025 | B14: C 41 | C14: 1 | D14: S/PECHO | E14: 35/15 | F14: 77 | G14: 77 - | H14: 6600 | I14: =+F14*H14 -> 508200 | J14: 46
A15: 09/09/2025 | B15: CAMPO CHICO | C15: 2 | D15: S/PECHO | E15: 35/15 | F15: 162 | G15: 83 - 79 - | H15: 6600 | I15: =+F15*H15 -> 1069200 | J15: 46
A16: 09/09/2025 | B16: CAMPO CHICO | C16: 1 | D16: NOVT | E16: 15 | F16: 141 | G16: 141 - | H16: 6400 | I16: =+F16*H16 -> 902400 | J16: 20061
A17: 09/09/2025 | B17: CAMPO CHICO | C17: 1 | D17: NOVT | E17: 15 | F17: 134 | G17: 134 - | H17: 6400 | I17: =+F17*H17 -> 857600 | J17: 20060
A18: 09/09/2025 | B18: CERVANTES | C18: 1 | D18: C./PIST. | F18: 49 | G18: 49 - | H18: 7200 | I18: =+F18*H18 -> 352800 | J18: 46
A19: 09/09/2025 | B19: CERVANTES | C19: 1 | D19: S/PECHO | E19: 35/15 | F19: 81 | G19: 81 - | H19: 6600 | I19: =+F19*H19 -> 534600 | J19: 46
A20: 09/09/2025 | B20: CERVANTES | C20: 2 | D20: NOVT | E20: 15 | F20: 224 | G20: 114 - 110 - | H20: 6400 | I20: =+F20*H20 -> 1433600 | J20: 26064
A21: 09/09/2025 | B21: CERVANTES | C21: 1 | D21: NOVT | E21: 15 | F21: 135 | G21: 135 - | H21: 6400 | I21: =+F21*H21 -> 864000 | J21: 20060
A22: 09/09/2025 | B22: CERVANTES | C22: 1 | D22: NOVT | E22: 15 | F22: 132 | G22: 132 - | H22: 6400 | I22: =+F22*H22 -> 844800 | J22: 20061
A23: 09/09/2025 | B23: EL ARRIERO | C23: 1 | D23: NOVT | E23: 15 | F23: 118 | G23: 118 - | H23: 6400 | I23: =+F23*H23 -> 755200 | J23: 26064
A24: 09/09/2025 | B24: EL ARRIERO | C24: 1 | D24: C./PIST. | F24: 46 | G24: 46 - | H24: 7200 | I24: =+F24*H24 -> 331200 | J24: 46
A25: 09/09/2025 | B25: EL ARRIERO | C25: 2 | D25: NOVT | E25: 15 | F25: 286 | G25: 145 - 141 - | H25: 6400 | I25: =+F25*H25 -> 1830400 | J25: 20061
A26: 09/09/2025 | B26: EL ARRIERO | C26: 2 | D26: S/PECHO | E26: 35/15 | F26: 156 | G26: 80 - 76 - | H26: 6600 | I26: =+F26*H26 -> 1029600 | J26: 46
A27: 09/09/2025 | B27: EL ARRIERO | C27: 1 | D27: NOVT | E27: 15 | F27: 143 | G27: 143 - | H27: 6400 | I27: =+F27*H27 -> 915200 | J27: 20062
A28: 09/09/2025 | B28: EL PAMPA | C28: 1 | D28: NOVT | E28: 15 | F28: 149 | G28: 149 - | H28: 6400 | I28: =+F28*H28 -> 953600 | J28: 20062
A29: 09/09/2025 | B29: EL PAMPA | C29: 1 | D29: C./PIST. | F29: 56 | G29: 56 - | H29: 7200 | I29: =+F29*H29 -> 403200 | J29: 46
A30: 09/09/2025 | B30: EL PAMPA | C30: 1 | D30: NOVT | E30: 15 | F30: 128 | G30: 128 - | H30: 6400 | I30: =+F30*H30 -> 819200 | J30: 20060
A31: 09/09/2025 | B31: EL PAMPA | C31: 2 | D31: S/PECHO | E31: 35/15 | F31: 153 | G31: 76 - 77 - | H31: 6600 | I31: =+F31*H31 -> 1009800 | J31: 46
A32: 09/09/2025 | B32: EL PAMPA | C32: 1 | D32: NOVT | E32: 15 | F32: 136 | G32: 136 - | H32: 6400 | I32: =+F32*H32 -> 870400 | J32: 20061
A33: 09/09/2025 | B33: EL TARQUINO | C33: 1 | D33: NOVT | E33: 15 | F33: 136 | G33: 136 - | H33: 6400 | I33: =+F33*H33 -> 870400 | J33: 20061
A34: 09/09/2025 | B34: EL TARQUINO | C34: 1 | D34: VAQ | E34: 15 | F34: 137 | G34: 137 - | H34: 6400 | I34: =+F34*H34 -> 876800 | J34: 20061
A35: 09/09/2025 | B35: EL TARQUINO | C35: 1 | D35: NOVT | E35: 15 | F35: 147 | G35: 147 - | H35: 6400 | I35: =+F35*H35 -> 940800 | J35: 20062
A36: 09/09/2025 | B36: EL TARQUINO | C36: 1 | D36: C./PIST. | F36: 55 | G36: 55 - | H36: 7200 | I36: =+F36*H36 -> 396000 | J36: 46
A37: 09/09/2025 | B37: EL TARQUINO | C37: 2 | D37: S/PECHO | E37: 35/15 | F37: 151 | G37: 73 - 78 - | H37: 6600 | I37: =+F37*H37 -> 996600 | J37: 46
A38: 09/09/2025 | B38: FRIGO ALCORTA | C38: 3 | D38: C./PIST. | F38: 194 | G38: 58 - 76 - 60 - | H38: 7200 | I38: =+F38*H38 -> 1396800 | J38: 46
A39: 09/09/2025 | B39: FRIGO ALCORTA | C39: 1 | D39: S/PECHO | E39: 50/75 | F39: 87 | G39: 87 - | H39: 6100 | I39: =+F39*H39 -> 530700 | J39: 46
A40: 09/09/2025 | B40: FRIGO ALCORTA | C40: 2 | D40: NOVT | E40: 50 | F40: 314 | G40: 158 - 156 - | H40: 5900 | I40: =+F40*H40 -> 1852600 | J40: 20062
A41: 09/09/2025 | B41: FRIGO ALCORTA | C41: 1 | D41: NOVT | E41: 50 | F41: 152 | G41: 152 - | H41: 5900 | I41: =+F41*H41 -> 896800 | J41: 20061
A42: 09/09/2025 | B42: FRIGO ALCORTA | C42: 1 | D42: VAQ | E42: 50 | F42: 155 | G42: 155 - | H42: 5900 | I42: =+F42*H42 -> 914500 | J42: 20061
A43: 09/09/2025 | B43: FRIGO VILLEGAS | C43: 1 | D43: C./PIST. | F43: 74 | G43: 74 - | H43: 7200 | I43: =+F43*H43 -> 532800 | J43: 46
A44: 09/09/2025 | B44: FRIGO VILLEGAS | C44: 1 | D44: NOVT | E44: 50 | F44: 153 | G44: 153 - | H44: 5900 | I44: =+F44*H44 -> 902700 | J44: 20061
A45: 09/09/2025 | B45: FRIGO. SARMIENTO | C45: 1 | D45: NOVT | E45: 15 | F45: 116 | G45: 116 - | H45: 6400 | I45: =+F45*H45 -> 742400 | J45: 26064
A46: 09/09/2025 | B46: FRIGO. SARMIENTO | C46: 1 | D46: C./PIST. | F46: 54 | G46: 54 - | H46: 7200 | I46: =+F46*H46 -> 388800 | J46: 46
A47: 09/09/2025 | B47: FRIGO. SARMIENTO | C47: 1 | D47: S/PECHO | E47: 35/15 | F47: 82 | G47: 82 - | H47: 6600 | I47: =+F47*H47 -> 541200 | J47: 46
A48: 09/09/2025 | B48: FRIGO. SARMIENTO | C48: 1 | D48: NOVT | E48: 15 | F48: 128 | G48: 128 - | H48: 6400 | I48: =+F48*H48 -> 819200 | J48: 20061
A49: 09/09/2025 | B49: IRIGOYN | C49: 1 | D49: C./PIST. | F49: 74 | G49: 74 - | H49: 7200 | I49: =+F49*H49 -> 532800 | J49: 46
A50: 09/09/2025 | B50: IRIGOYN | C50: 1 | D50: NOVT | E50: 50 | F50: 166 | G50: 166 - | H50: 5900 | I50: =+F50*H50 -> 979400 | J50: 20062
A51: 09/09/2025 | B51: IRIGOYN | C51: 1 | D51: S/PECHO | E51: 50/75 | F51: 76 | G51: 76 - | H51: 6100 | I51: =+F51*H51 -> 463600 | J51: 46
A52: 09/09/2025 | B52: LA PERLITA | C52: 1 | D52: C./PIST. | F52: 47 | G52: 47 - | H52: 7200 | I52: =+F52*H52 -> 338400 | J52: 46
A53: 09/09/2025 | B53: LA PERLITA | C53: 2 | D53: VAQ | E53: 15 | F53: 236 | G53: 118 - 118 - | H53: 6400 | I53: =+F53*H53 -> 1510400 | J53: 20061
A54: 09/09/2025 | B54: LAS DELICIAS | C54: 1 | D54: C./PIST. | F54: 56 | G54: 56 - | H54: 7200 | I54: =+F54*H54 -> 403200 | J54: 46
A55: 09/09/2025 | B55: LAS DELICIAS | C55: 1 | D55: VAQ | E55: 50 | F55: 155 | G55: 155 - | H55: 5900 | I55: =+F55*H55 -> 914500 | J55: 20061
A56: 09/09/2025 | B56: PROMOCION | C56: 1 | D56: NOVT | E56: 15 | F56: 126 | G56: 126 - | H56: 6400 | I56: =+F56*H56 -> 806400 | J56: 26064
A57: 09/09/2025 | B57: PROMOCION | C57: 1 | D57: NOVT | E57: 15 | F57: 149 | G57: 149 - | H57: 6400 | I57: =+F57*H57 -> 953600 | J57: 20062
A58: 09/09/2025 | B58: PROMOCION | C58: 2 | D58: S/PECHO | E58: 35/15 | F58: 162 | G58: 81 - 81 - | H58: 6600 | I58: =+F58*H58 -> 1069200 | J58: 46
A59: 09/09/2025 | B59: RURAL | C59: 4 | D59: NOVT | E59: 35 | F59: 408 | G59: 104 - 97 - 101 - 106 - | H59: 6900 | I59: =+F59*H59 -> 2815200 | J59: 26064
A60: 09/09/2025 | B60: TERNERO ANGUS | C60: 2 | D60: NOVT | E60: 15 | F60: 290 | G60: 144 - 146 - | H60: 6400 | I60: =+F60*H60 -> 1856000 | J60: 20062
A61: 09/09/2025 | B61: TERNERO ANGUS | C61: 1 | D61: S/PECHO | E61: 35/15 | F61: 79 | G61: 79 - | H61: 6600 | I61: =+F61*H61 -> 521400 | J61: 46
A62: 09/09/2025 | B62: TOMAS | C62: 2 | D62: C./PIST. | F62: 137 | G62: 68 - 69 - | H62: 7200 | I62: =+F62*H62 -> 986400 | J62: 46
A63: 09/09/2025 | B63: TOMAS | C63: 1 | D63: NOVT | E63: 50 | F63: 149 | G63: 149 - | H63: 5900 | I63: =+F63*H63 -> 879100 | J63: 20062
A64: 09/09/2025 | B64: TOMAS | C64: 1 | D64: S/PECHO | E64: 50/75 | F64: 79 | G64: 79 - | H64: 6100 | I64: =+F64*H64 -> 481900 | J64: 46
B65: TOTAL | C65: =SUM(C2:C64) -> 79 | F65: =SUM(F2:F64) -> 8360 | G65: KG | I65: =SUM(I2:I64) -> 53980100

Sheet 19 DE M
A1: FECHA | B1: CARNICERIA | C1: CANT | D1: CATEG | E1: TIP | F1: KILOS | G1: DETALLE 1/2 | H1: PRECIO | I1: IMPORTE | J1: TROPA
A2: 12/09/2025 | B2: 19 DE MARZO | C2: 20 | D2: RAL | F2: 690 | G2: 38 - 36 - 32 - 37 - 34 - 35 - 35 - 41 - 39 - 35 - 34 - 32 - 32 - 32 - 32 - 32 - 35 - 37 - 32 - 30 - | H2: 8000 | I2: =+F2*H2 -> 5520000 | J2: 48
A3: 12/09/2025 | B3: 19 DE MARZO | C3: 20 | D3: RAL | F3: 696 | G3: 33 - 34 - 35 - 34 - 40 - 34 - 32 - 31 - 38 - 34 - 35 - 32 - 36 - 38 - 36 - 30 - 33 - 33 - 39 - 39 - | H3: 8000 | I3: =+F3*H3 -> 5568000 | J3: 48
A4: 12/09/2025 | B4: 19 DE MARZO | C4: 20 | D4: RAL | F4: 695 | G4: 35 - 35 - 33 - 40 - 40 - 32 - 34 - 35 - 30 - 32 - 32 - 32 - 34 - 34 - 39 - 34 - 33 - 33 - 39 - 39 - | H4: 8000 | I4: =+F4*H4 -> 5560000 | J4: 48
A5: 12/09/2025 | B5: 19 DE MARZO | C5: 20 | D5: RAL | F5: 707 | G5: 38 - 37 - 35 - 35 - 34 - 33 - 37 - 35 - 32 - 33 - 36 - 38 - 40 - 35 - 34 - 31 - 38 - 39 - 34 - 33 - | H5: 8000 | I5: =+F5*H5 -> 5656000 | J5: 48
A6: 12/09/2025 | B6: 19 DE MARZO | C6: 20 | D6: RAL | F6: 707 | G6: 32 - 38 - 40 - 38 - 42 - 36 - 38 - 34 - 33 - 35 - 33 - 33 - 35 - 38 - 29 - 34 - 34 - 36 - 35 - 34 - | H6: 8000 | I6: =+F6*H6 -> 5656000 | J6: 48
A7: 12/09/2025 | B7: 19 DE MARZO | C7: 20 | D7: RAL | F7: 702 | G7: 36 - 36 - 37 - 38 - 32 - 33 - 34 - 35 - 35 - 32 - 32 - 29 - 29 - 41 - 42 - 36 - 35 - 38 - 34 - 38 - | H7: 8000 | I7: =+F7*H7 -> 5616000 | J7: 48
A8: 12/09/2025 | B8: 19 DE MARZO | C8: 20 | D8: RAL | F8: 687 | G8: 32 - 35 - 35 - 39 - 42 - 32 - 32 - 34 - 31 - 34 - 33 - 34 - 32 - 34 - 36 - 31 - 33 - 40 - 34 - 34 - | H8: 8000 | I8: =+F8*H8 -> 5496000 | J8: 48
A9: 12/09/2025 | B9: 19 DE MARZO | C9: 2 | D9: FALDA | F9: 1221 | G9: 600 - 621 - | H9: 4500 | I9: =+F9*H9 -> 5494500 | J9: 47
A10: 12/09/2025 | B10: 19 DE MARZO | C10: 2 | D10: ENRTAÑA | F10: 88 | G10: 44 - 44 - | H10: 18000 | I10: =+F10*H10 -> 1584000 | J10: 47
B11: TOTAL | C11: =SUM(C2:C10) -> 144 | F11: =SUM(F2:F10) -> 6193 | G11: KG | I11: =SUM(I2:I10) -> 46150500
A14: FECHA | B14: CARNICERIA | C14: CANT | D14: CATEG | E14: TIP | F14: KILOS | G14: DETALLE 1/2 | H14: PRECIO | I14: IMPORTE | J14: TROPA
A15: 09/09/2025 | B15: CAMPANA | C15: 5 | D15: VAQ | E15: 35 | F15: 504 | G15: 104 - 105 - 94 - 102 - 99 - | H15: 6900 | I15: =+F15*H15 -> 3477600 | J15: 26064
A16: 09/09/2025 | B16: CAMPANA | C16: 1 | D16: NOVT | E16: 35 | F16: 106 | G16: 106 - | H16: 6900 | I16: =+F16*H16 -> 731400 | J16: 26064
A17: 09/09/2025 | B17: FRIGO PAGOLA | C17: 3 | D17: VAQ | E17: 35 | F17: 286 | G17: 97 - 101 - 88 - | H17: 6900 | I17: =+F17*H17 -> 1973400 | J17: 26064
A18: 09/09/2025 | B18: HEREFORD | C18: 2 | D18: VAQ | E18: 35 | F18: 183 | G18: 92 - 91 - | H18: 6900 | I18: =+F18*H18 -> 1262700 | J18: 26064
A19: 09/09/2025 | B19: LA BRIOSA | C19: 16 | D19: VAQ | E19: 35 | F19: 1447 | G19: 96 - 84 - 82 - 100 - 94 - 91 - 95 - 90 - 90 - 96 - 96 - 86 - 85 - 87 - 85 - 90 - | H19: 6900 | I19: =+F19*H19 -> 9984300 | J19: 26064
A20: 09/09/2025 | B20: LA BRIOSA | C20: 4 | D20: NOVT | E20: 35 | F20: 423 | G20: 105 - 102 - 109 - 107 - | H20: 6900 | I20: =+F20*H20 -> 2918700 | J20: 26064
A21: 09/09/2025 | B21: MITRE | C21: 2 | D21: VAQ | E21: 35 | F21: 182 | G21: 90 - 92 - | H21: 6900 | I21: =+F21*H21 -> 1255800 | J21: 26064
A22: 09/09/2025 | B22: MITRE | C22: 1 | D22: NOVT | E22: 35 | F22: 103 | G22: 103 - | H22: 6900 | I22: =+F22*H22 -> 710700 | J22: 26064
A23: 09/09/2025 | B23: NORTE | C23: 2 | D23: NOVT | E23: 35 | F23: 191 | G23: 95 - 96 - | H23: 6900 | I23: =+F23*H23 -> 1317900 | J23: 26064
A24: 09/09/2025 | B24: NORTE | C24: 4 | D24: VAQ | E24: 35 | F24: 380 | G24: 92 - 96 - 99 - 93 - | H24: 6900 | I24: =+F24*H24 -> 2622000 | J24: 26064
A25: 09/09/2025 | B25: PREMIUN | C25: 2 | D25: VAQ | E25: 35 | F25: 186 | G25: 89 - 97 - | H25: 6900 | I25: =+F25*H25 -> 1283400 | J25: 26064
A26: 09/09/2025 | B26: PREMIUN | C26: 2 | D26: NOVT | E26: 35 | F26: 216 | G26: 110 - 106 - | H26: 6900 | I26: =+F26*H26 -> 1490400 | J26: 26064
A27: 09/09/2025 | B27: ZARATE | C27: 6 | D27: VAQ | E27: 35 | F27: 570 | G27: 91 - 100 - 102 - 91 - 91 - 95 - | H27: 6900 | I27: =+F27*H27 -> 3933000 | J27: 26064
B28: TOTAL | C28: =SUM(C15:C27) -> 50 | F28: =SUM(F15:F27) -> 4777 | G28: KG | I28: =SUM(I15:I27) -> 32961300

Sheet DONAIDE
A1: FECHA | B1: CARNICERIA | C1: CANT | D1: CATEG | E1: TIP | F1: KILOS | G1: DETALLE 1/2 | H1: PRECIO | I1: IMPORTE | J1: TROPA
A2: 12/09/2025 | B2: DONAIDE | C2: 20 | D2: ASA. | F2: 319 | G2: 16 - 17 - 14 - 14 - 18 - 18 - 15 - 15 - 14 - 14 - 17 - 17 - 17 - 18 - 16 - 16 - 18 - 18 - 13 - 14 - | H2: 7400 | I2: =+F2*H2 -> 2360600 | J2: 47
A3: 12/09/2025 | B3: DONAIDE | C3: 20 | D3: ASA. | F3: 331 | G3: 17 - 17 - 18 - 18 - 17 - 16 - 14 - 14 - 16 - 17 - 17 - 17 - 17 - 17 - 18 - 17 - 14 - 14 - 18 - 18 - | H3: 7400 | I3: =+F3*H3 -> 2449400 | J3: 47
A4: 12/09/2025 | B4: DONAIDE | C4: 20 | D4: ASA. | F4: 365 | G4: 15 - 15 - 16 - 18 - 17 - 18 - 19 - 19 - 19 - 19 - 19 - 20 - 19 - 20 - 18 - 19 - 20 - 20 - 17 - 18 - | H4: 7400 | I4: =+F4*H4 -> 2701000 | J4: 47
A5: 12/09/2025 | B5: DONAIDE | C5: 20 | D5: ASA. | F5: 324 | G5: 15 - 15 - 16 - 17 - 19 - 20 - 16 - 17 - 17 - 17 - 15 - 15 - 15 - 14 - 14 - 14 - 17 - 18 - 16 - 17 - | H5: 7400 | I5: =+F5*H5 -> 2397600 | J5: 47
A6: 12/09/2025 | B6: DONAIDE | C6: 20 | D6: ASA. | F6: 325 | G6: 17 - 16 - 17 - 19 - 17 - 14 - 15 - 17 - 17 - 15 - 15 - 17 - 17 - 17 - 15 - 17 - 16 - 16 - 16 - 15 - | H6: 7400 | I6: =+F6*H6 -> 2405000 | J6: 47
A7: 12/09/2025 | B7: DONAIDE | C7: 20 | D7: ASA. | F7: 316 | G7: 16 - 15 - 15 - 14 - 16 - 17 - 17 - 17 - 17 - 16 - 15 - 16 - 14 - 14 - 15 - 16 - 16 - 16 - 16 - 18 - | H7: 7400 | I7: =+F7*H7 -> 2338400 | J7: 47
A8: 12/09/2025 | B8: DONAIDE | C8: 20 | D8: ASA. | F8: 320 | G8: 17 - 16 - 16 - 15 - 17 - 15 - 14 - 17 - 14 - 14 - 16 - 16 - 15 - 15 - 17 - 18 - 17 - 17 - 17 - 17 - | H8: 7400 | I8: =+F8*H8 -> 2368000 | J8: 47
A9: 12/09/2025 | B9: DONAIDE | C9: 20 | D9: RUEDAS | F9: 387 | G9: 19 - 20 - 17 - 17 - 21 - 22 - 19 - 19 - 18 - 18 - 20 - 20 - 20 - 21 - 19 - 19 - 22 - 22 - 17 - 17 - | H9: 6000 | I9: =+F9*H9 -> 2322000 | J9: 48
A10: 12/09/2025 | B10: DONAIDE | C10: 20 | D10: RUEDAS | F10: 404 | G10: 21 - 20 - 22 - 22 - 21 - 20 - 18 - 18 - 19 - 20 - 20 - 20 - 19 - 20 - 21 - 22 - 17 - 18 - 23 - 23 - | H10: 6000 | I10: =+F10*H10 -> 2424000 | J10: 48
A11: 12/09/2025 | B11: DONAIDE | C11: 20 | D11: RUEDAS | F11: 419 | G11: 19 - 19 - 21 - 19 - 19 - 19 - 20 - 20 - 22 - 22 - 23 - 23 - 22 - 22 - 21 - 21 - 23 - 22 - 21 - 21 - | H11: 6000 | I11: =+F11*H11 -> 2514000 | J11: 48
A12: 12/09/2025 | B12: DONAIDE | C12: 20 | D12: RUEDAS | F12: 402 | G12: 18 - 17 - 19 - 20 - 22 - 23 - 20 - 20 - 21 - 21 - 19 - 19 - 19 - 19 - 19 - 19 - 22 - 22 - 21 - 22 - | H12: 6000 | I12: =+F12*H12 -> 2412000 | J12: 48
A13: 12/09/2025 | B13: DONAIDE | C13: 20 | D13: RUEDAS | F13: 418 | G13: 22 - 22 - 23 - 26 - 21 - 18 - 18 - 21 - 21 - 20 - 20 - 23 - 23 - 22 - 18 - 20 - 21 - 20 - 20 - 19 - | H13: 6000 | I13: =+F13*H13 -> 2508000 | J13: 48
... A15: 12/09/2025 | B15: DONAIDE | C15: 20 | D15: RUEDAS | F15: 416 | G15: 20 - 19 - 21 - 21 - 23 - 23 - 22 - 22 - 18 - 18 - 21 - 21 - 19 - 19 - 22 - 22 - 22 - 21 - 21 - 21 - | H15: 6000 | I15: =+F15*H15 -> 2496000 | J15: 48
B16: TOTAL | C16: =SUM(C2:C15) -> 280 | F16: =SUM(F2:F15) -> 5147 | G16: KG | I16: =SUM(I2:I15) -> 34102000

Sheet SAN ROQUE
A1: FECHA | B1: CARNICERIA | C1: CANT | D1: CATEG | E1: TIP | F1: KILOS | G1: DETALLE 1/2 | H1: PRECIO | I1: IMPORTE | J1: TROPA
A2: 09/09/2025 | B2: FRIGO MERLO | C2: 5 | D2: NOVT | E2: 50 | F2: 713 | G2: 153 - 153 - 144 - 131 - 132 - | H2: 5900 | I2: =+F2*H2 -> 4206700 | J2: 20062
A3: 09/09/2025 | B3: FRIGO MERLO | C3: 16 | D3: C./PIST. | F3: 836 | G3: 51 - 50 - 47 - 50 - 51 - 59 - 50 - 50 - 55 - 55 - 49 - 50 - 51 - 51 - 57 - 60 - | H3: 7200 | I3: =+F3*H3 -> 6019200 | J3: 46
A4: 09/09/2025 | B4: FRIGO MERLO | C4: 16 | D4: S/PECHO | E4: 50/75 | F4: 1245 | G4: 75 - 71 - 75 - 83 - 80 - 85 - 81 - 74 - 78 - 80 - 75 - 79 - 80 - 73 - 76 - 80 - | H4: 6100 | I4: =+F4*H4 -> 7594500 | J4: 46
B5: TOTAL | C5: =SUM(C2:C4) -> 37 | F5: =SUM(F2:F4) -> 2794 | G5: KG | I5: =SUM(I2:I4) -> 17820400

Sheet TOTAL
B3: FRIGO RUNFO
C4: CANT | D4: KG | E4: TOTALES
B5: CARNICERIAS | C5: =+CARNICERIAS!C65 -> 79 | D5: =+CARNICERIAS!F65 -> 8360 | E5: =+CARNICERIAS!I65 -> 53980100
B6: 19 DE M | C6: =+'19 DE M'!C11 -> 144 | D6: =+'19 DE M'!F11 -> 6193 | E6: =+'19 DE M'!I11 -> 46150500
B7: 19 DE M - CLIENTES | C7: =+'19 DE M'!C28 -> 50 | D7: =+'19 DE M'!F28 -> 4777 | E7: =+'19 DE M'!I28 -> 32961300
B8: DONAIDE | C8: =+DONAIDE!C16 -> 280 | D8: =+DONAIDE!F16 -> 5147 | E8: =+DONAIDE!I16 -> 34102000
B9: SAN ROQUE | C9: =+'SAN ROQUE'!C5 -> 37 | D9: =+'SAN ROQUE'!F5 -> 2794 | E9: =+'SAN ROQUE'!I5 -> 17820400
B10: TOTALES | C10: =SUM(C5:C9) -> 590 | D10: =SUM(D5:D9) -> 27271 | E10: =SUM(E5:E9) -> 185014300
